BEGIN:VCALENDAR
PRODID:-//KinoKlub//iCal4j 1.0//EN
VERSION:2.0
CALSCALE:GREGORIAN
BEGIN:VEVENT
DTSTAMP:20260420T102718Z
DTSTART:20211118T173000Z
DTEND:20211118T184000Z
SUMMARY:Last and First Men
UID:20260420T102718Z-1@kinoklub.sk
TZID:Europe/Prague
LOCATION:Špitálska 4\, Bratislava-Staré 
 Mesto (Lumière)
DESCRIPTION:Experimentálna sci-fi báseň 
 Jóhanna Jóhannssona je situovaná do ďal
 ekej budúcnosti. Ponúka unikátny zážito
 k mimo známy čas a priestor v dobe\, v 
 ktorej sa ľudská rasa nachádza na hrani
 ci vyhubenia. ...\n\nhttps://kinoklub.s
 k/film/5313/last-and-first-men
END:VEVENT
END:VCALENDAR
