BEGIN:VCALENDAR
PRODID:-//KinoKlub//iCal4j 1.0//EN
VERSION:2.0
CALSCALE:GREGORIAN
BEGIN:VEVENT
DTSTAMP:20260420T102457Z
DTSTART:20211118T190000Z
DTEND:20211118T204300Z
SUMMARY:Aalto: architektúra emócií
UID:20260420T102457Z-1@kinoklub.sk
TZID:Europe/Prague
LOCATION:Špitálska 4\, Bratislava-Staré 
 Mesto (Lumière)
DESCRIPTION:Poeticky podmanivý filmový p
 renik do kreatívnych procesov slávneho 
 Fína\, v diele ktorého sa prelína funkc
 ionalistický štýl s organickým dizajnom
  inšpirovaným prírodou. Film po prvý kr
 át odhaľuje in...\n\nhttps://kinoklub.s
 k/film/5319/aalto-architektura-emocii
END:VEVENT
END:VCALENDAR
