BEGIN:VCALENDAR
PRODID:-//KinoKlub//iCal4j 1.0//EN
VERSION:2.0
CALSCALE:GREGORIAN
BEGIN:VEVENT
DTSTAMP:20260420T103344Z
DTSTART:20211119T173000Z
DTEND:20211119T185900Z
SUMMARY:Helmut Newton: Nehanebná krása
UID:20260420T103344Z-1@kinoklub.sk
TZID:Europe/Prague
LOCATION:Špitálska 4\, Bratislava-Staré 
 Mesto (Lumière)
DESCRIPTION:Pre niekoho perverzný a mači
 stický\, pre iného geniálny a podvratný
 . Helmut Newton bol bezpochyby jedným z
  najvplyvnejších majstrov módnej fotogr
 afie\, uznávaný\, obdivovaný i zatracov
 aný...\n\nJeho f...\n\nhttps://kinoklub
 .sk/film/5102/helmut-newton-nehanebna-k
 rasa
END:VEVENT
END:VCALENDAR
