BEGIN:VCALENDAR
PRODID:-//KinoKlub//iCal4j 1.0//EN
VERSION:2.0
CALSCALE:GREGORIAN
BEGIN:VEVENT
DTSTAMP:20260420T102527Z
DTSTART:20211119T193000Z
DTEND:20211119T211000Z
SUMMARY:Gorbačov. Ráj
UID:20260420T102527Z-1@kinoklub.sk
TZID:Europe/Prague
LOCATION:Špitálska 4\, Bratislava-Staré 
 Mesto (Lumière)
DESCRIPTION:Deväťdesiatročný Michail Gor
 bačov žije v skromnom dome na okraji Mo
 skvy\, kde čaká na prijatie do panteonu
  najvýznamnejších osobností 20. storoči
 a. Aspoň v Rusku\, kde je stále vnímaný
  ako kontroverz...\n\nhttps://kinoklub.
 sk/film/5259/gorbacov-raj
END:VEVENT
END:VCALENDAR
