BEGIN:VCALENDAR
PRODID:-//KinoKlub//iCal4j 1.0//EN
VERSION:2.0
CALSCALE:GREGORIAN
BEGIN:VEVENT
DTSTAMP:20260425T123548Z
DTSTART:20250323T170000Z
DTEND:20250323T184000Z
SUMMARY:Anishort: Najlepšie Krátke Animo
 vané Filmy
UID:20260425T123549Z-1@kinoklub.sk
TZID:Europe/Prague
LOCATION:Hviezdoslavovo nám. 17\, Bratis
 lava (Mladosť)
DESCRIPTION:Najlepšie krátke animované f
 ilmy z celého sveta oceňované na medzin
 árodných festivaloch. Mix rôznych anima
 čných techník\, žánrov a zábavy. Celkom
  20 najlepších animácií z 10 krajín.\n\
 nAnishort Fest...\n\nhttps://kinoklub.s
 k/film/4417/anishort-najlepsie-kratke-a
 nimovane-filmy
END:VEVENT
END:VCALENDAR
