BEGIN:VCALENDAR
PRODID:-//KinoKlub//iCal4j 1.0//EN
VERSION:2.0
CALSCALE:GREGORIAN
BEGIN:VEVENT
DTSTAMP:20260425T123824Z
DTSTART:20250324T193000Z
DTEND:20250324T213000Z
SUMMARY:Divokosť v srdci
UID:20260425T123830Z-1@kinoklub.sk
TZID:Europe/Prague
LOCATION:Špitálska 4\, Bratislava-Staré 
 Mesto (Lumière)
DESCRIPTION:Sailor Ripley je nenapravite
 ľný násilník s fixáciou na Elvisa Presl
 eyho a sako z hadej kože\, ktoré zosobň
 uje jeho individualitu a vieru v osobnú
  slobodu. Lulu Fortune je dcéra bohatej
  a mentálne ne...\n\nhttps://kinoklub.s
 k/film/3912/divokost-v-srdci
END:VEVENT
END:VCALENDAR
