BEGIN:VCALENDAR
PRODID:-//KinoKlub//iCal4j 1.0//EN
VERSION:2.0
CALSCALE:GREGORIAN
BEGIN:VEVENT
DTSTAMP:20260425T123238Z
DTSTART:20250320T163000Z
DTEND:20250320T184000Z
SUMMARY:Emilia Pérez
UID:20260425T123239Z-1@kinoklub.sk
TZID:Europe/Prague
LOCATION:Špitálska 4\, Bratislava-Staré 
 Mesto (Lumière)
DESCRIPTION:Mexiko\, súčasnosť. Rita je 
 výborná\, ale nie dostatočne ohodnotená
  právnička vo firme\, ktorá sa viac zau
 jíma o to\, ako zločincov ochrániť\, ne
 ž o to\, ako ich dostať pred súd. Jedné
 ho dňa sa však v je...\n\nhttps://kinok
 lub.sk/film/6944/emilia-perez
END:VEVENT
END:VCALENDAR
