BEGIN:VCALENDAR
PRODID:-//KinoKlub//iCal4j 1.0//EN
VERSION:2.0
CALSCALE:GREGORIAN
BEGIN:VEVENT
DTSTAMP:20260425T123420Z
DTSTART:20250320T193000Z
DTEND:20250320T205200Z
SUMMARY:Jednopercentný Indián
UID:20260425T123421Z-1@kinoklub.sk
TZID:Europe/Prague
LOCATION:Špitálska 4\, Bratislava-Staré 
 Mesto (Lumière)
DESCRIPTION:Jednopercentný indián\, podo
 bne ako prvé dve časti trilógie režisér
 a Szabolcsa Hajdu (Rodinné šťastie a Ká
 lmánov deň)\, sa odohráva na jednom mie
 ste\, počas jednej noci medzi šiestimi 
 ľuďmi. Po pohreb...\n\nhttps://kinoklub
 .sk/film/7105/jednopercentny-indian
END:VEVENT
END:VCALENDAR
