BEGIN:VCALENDAR
PRODID:-//KinoKlub//iCal4j 1.0//EN
VERSION:2.0
CALSCALE:GREGORIAN
BEGIN:VEVENT
DTSTAMP:20260425T123239Z
DTSTART:20250321T165000Z
DTEND:20250321T181700Z
SUMMARY:Tá druhá
UID:20260425T123240Z-1@kinoklub.sk
TZID:Europe/Prague
LOCATION:Špitálska 4\, Bratislava-Staré 
 Mesto (Lumière)
DESCRIPTION:Osemnásťročná Johana chce od
 ísť z rodného malomesta. Túži zmaturova
 ť a odísť študovať na vysokú. Posledný 
 rok strednej školy pre ňu však predstav
 uje náročnejšie obdobie ako pre jej spo
 lužiakov. Vo ...\n\nhttps://kinoklub.sk
 /film/7110/ta-druha
END:VEVENT
END:VCALENDAR
