BEGIN:VCALENDAR
PRODID:-//KinoKlub//iCal4j 1.0//EN
VERSION:2.0
CALSCALE:GREGORIAN
BEGIN:VEVENT
DTSTAMP:20260425T123824Z
DTSTART:20250323T133000Z
DTEND:20250323T145500Z
SUMMARY:Od marca do mája
UID:20260425T123828Z-1@kinoklub.sk
TZID:Europe/Prague
LOCATION:Špitálska 4\, Bratislava-Staré 
 Mesto (Lumière)
DESCRIPTION:Pod strechou starého vidieck
 eho domu žije päťčlenná rodina. Kým rod
 ičia pomaly starnú\, deti dospievajú a 
 je jasné\, že čoskoro pôjdu každé vlast
 nou cestou. Do nemenného rytmu každoden
 ného života vša...\n\nhttps://kinoklub.
 sk/film/7106/od-marca-do-maja
END:VEVENT
END:VCALENDAR
