BEGIN:VCALENDAR
PRODID:-//KinoKlub//iCal4j 1.0//EN
VERSION:2.0
CALSCALE:GREGORIAN
BEGIN:VEVENT
DTSTAMP:20260425T123420Z
DTSTART:20250323T151000Z
DTEND:20250323T164300Z
SUMMARY:Muž\, ktorý luže
UID:20260425T123422Z-1@kinoklub.sk
TZID:Europe/Prague
LOCATION:Špitálska 4\, Bratislava-Staré 
 Mesto (Lumière)
DESCRIPTION:Rozprávanie plné pravdy a kl
 amu\, skutočnosti a predstierania. Hrdi
 nom je akýsi novodobý barón Prášil\, kt
 orý svojimi historkami o hrdinovi miest
 neho odboja mystifikuje obyvateľov malé
 ho slovenského ...\n\nhttps://kinoklub.
 sk/film/1353/muz-ktory-luze
END:VEVENT
END:VCALENDAR
