BEGIN:VCALENDAR
PRODID:-//KinoKlub//iCal4j 1.0//EN
VERSION:2.0
CALSCALE:GREGORIAN
BEGIN:VEVENT
DTSTAMP:20260425T123419Z
DTSTART:20250323T160000Z
DTEND:20250323T180200Z
SUMMARY:Nebo nad Berlínom
UID:20260425T123419Z-1@kinoklub.sk
TZID:Europe/Prague
LOCATION:Špitálska 4\, Bratislava-Staré 
 Mesto (Lumière)
DESCRIPTION:Metafyzická úvaha o tom\, čo
  to znamená byť človekom\, o láske\, de
 tstve\, ale aj o pamäti mesta a o rozde
 lenom Berlíne v období tesne pred pádom
  Berlínskeho múru. Dvaja anjeli pozoruj
 ú z výšky obyvate...\n\nhttps://kinoklu
 b.sk/film/2899/nebo-nad-berlinom
END:VEVENT
END:VCALENDAR
