BEGIN:VCALENDAR
PRODID:-//KinoKlub//iCal4j 1.0//EN
VERSION:2.0
CALSCALE:GREGORIAN
BEGIN:VEVENT
DTSTAMP:20260425T123330Z
DTSTART:20250324T170000Z
DTEND:20250324T183500Z
SUMMARY:Francúzska spojka
UID:20260425T123330Z-1@kinoklub.sk
TZID:Europe/Prague
LOCATION:Špitálska 4\, Bratislava-Staré 
 Mesto (Lumière)
DESCRIPTION:Francúzka spojka je surovou 
 básňou venovanou mestu\, ktoré nikdy ne
 spí. Rok 1960. Heroín sa na východné po
 brežie USA dováža prevažne z Francúzska
 . Večer 7. októbra 1961 si Eddie „Popey
 e“ Egan a Sonn...\n\nhttps://kinoklub.s
 k/film/1882/francuzska-spojka
END:VEVENT
END:VCALENDAR
