BEGIN:VCALENDAR
PRODID:-//KinoKlub//iCal4j 1.0//EN
VERSION:2.0
CALSCALE:GREGORIAN
BEGIN:VEVENT
DTSTAMP:20260425T123448Z
DTSTART:20250319T151000Z
DTEND:20250319T163200Z
SUMMARY:Žart
UID:20260425T123448Z-1@kinoklub.sk
TZID:Europe/Prague
LOCATION:Špitálska 4\, Bratislava-Staré 
 Mesto (Lumière)
DESCRIPTION:Počas obdobia československe
 j novej vlny vznikli celkovo tri celove
 černé adaptácie diela spisovateľa Milan
 a Kunderu. Podľa jeho poviedok zo zbier
 ky Směšné lásky boli natočené tragikomé
 die Nikdo se ...\n\nhttps://kinoklub.sk
 /film/7156/zart
END:VEVENT
END:VCALENDAR
