BEGIN:VCALENDAR
PRODID:-//KinoKlub//iCal4j 1.0//EN
VERSION:2.0
CALSCALE:GREGORIAN
BEGIN:VEVENT
DTSTAMP:20260425T123214Z
DTSTART:20250320T194000Z
DTEND:20250320T211000Z
SUMMARY:V utajení: Odhaľovanie krajnej p
 ravice
UID:20260425T123214Z-1@kinoklub.sk
TZID:Europe/Prague
LOCATION:Špitálska 4\, Bratislava-Staré 
 Mesto (Lumière)
DESCRIPTION:V utajení: Odhaľovanie krajn
 ej pravice je strhujúci dokument\, ktor
 ý odhaľuje\, ako súčasná krajná pravica
  rafinovane preniká do hlavného politic
 kého prúdu. Využíva pritom média\, mani
 pulatívne straté...\n\nhttps://kinoklub
 .sk/film/7158/v-utajeni-odhalovanie-kra
 jnej-pravice
END:VEVENT
END:VCALENDAR
