BEGIN:VCALENDAR
PRODID:-//KinoKlub//iCal4j 1.0//EN
VERSION:2.0
CALSCALE:GREGORIAN
BEGIN:VEVENT
DTSTAMP:20260425T123458Z
DTSTART:20250321T174000Z
DTEND:20250321T191200Z
SUMMARY:V ústrety slnku
UID:20260425T123501Z-1@kinoklub.sk
TZID:Europe/Prague
LOCATION:Špitálska 4\, Bratislava-Staré 
 Mesto (Lumière)
DESCRIPTION:Počas pandémie si Kasia a Ro
 bert uvedomili\, ako veľmi sa ako pár o
 dcudzili. Rozhodli sa preto opustiť kom
 fortný život vo Varšave\, predať dom\, 
 zanechať kariéru a spolu so svojimi deť
 mi sa vydať na c...\n\nhttps://kinoklub
 .sk/film/7159/v-ustrety-slnku
END:VEVENT
END:VCALENDAR
