BEGIN:VCALENDAR
PRODID:-//KinoKlub//iCal4j 1.0//EN
VERSION:2.0
CALSCALE:GREGORIAN
BEGIN:VEVENT
DTSTAMP:20260425T123602Z
DTSTART:20250322T131500Z
DTEND:20250322T151400Z
SUMMARY:The Cats of Gokogu Shrine
UID:20260425T123602Z-1@kinoklub.sk
TZID:Europe/Prague
LOCATION:Špitálska 4\, Bratislava-Staré 
 Mesto (Lumière)
DESCRIPTION:Svätyňa Gokogu v Japonsku ni
 e je len duchovným miestom\, ale aj úto
 čiskom pre skupinu opustených mačiek. M
 iestni obyvatelia sa starajú nielen o o
 kolie svätyne\, ale aj o jej štvornohýc
 h obyvateľov\, č...\n\nhttps://kinoklub
 .sk/film/7161/the-cats-of-gokogu-shrine
 
END:VEVENT
END:VCALENDAR
