BEGIN:VCALENDAR
PRODID:-//KinoKlub//iCal4j 1.0//EN
VERSION:2.0
CALSCALE:GREGORIAN
BEGIN:VEVENT
DTSTAMP:20260425T123713Z
DTSTART:20250323T124000Z
DTEND:20250323T143500Z
SUMMARY:Tartiniho kľúč
UID:20260425T123722Z-1@kinoklub.sk
TZID:Europe/Prague
LOCATION:Špitálska 4\, Bratislava-Staré 
 Mesto (Lumière)
DESCRIPTION:Dobrodružný rodinný film slo
 vinského režiséra Vinciho Vogue Anzlova
 ra sa odohráva v malebnom pobrežnom mes
 te Piran\, kde sa náhodné stretnutie tr
 och detí mení na vzrušujúcu výpravu. Ta
 jomné dobrodru...\n\nhttps://kinoklub.s
 k/film/7163/tartiniho-kluc
END:VEVENT
END:VCALENDAR
