BEGIN:VCALENDAR
PRODID:-//KinoKlub//iCal4j 1.0//EN
VERSION:2.0
CALSCALE:GREGORIAN
BEGIN:VEVENT
DTSTAMP:20260425T123706Z
DTSTART:20250323T172000Z
DTEND:20250323T185000Z
SUMMARY:Svet medzi nami
UID:20260425T123716Z-1@kinoklub.sk
TZID:Europe/Prague
LOCATION:Špitálska 4\, Bratislava-Staré 
 Mesto (Lumière)
DESCRIPTION:Marie Tomanová odcestovala z
  Mikulova do USA jako au pair\, dnes fo
 tí kampaně pro Nike\, Instagram nebo pr
 o módní časopisy jako Vogue CS. Její jm
 éno ale znají více v zahraničí než v ro
 dné zemi\, která...\n\nhttps://kinoklub
 .sk/film/7115/svet-medzi-nami
END:VEVENT
END:VCALENDAR
