BEGIN:VCALENDAR
PRODID:-//KinoKlub//iCal4j 1.0//EN
VERSION:2.0
CALSCALE:GREGORIAN
BEGIN:VEVENT
DTSTAMP:20260425T123705Z
DTSTART:20250323T191000Z
DTEND:20250323T203700Z
SUMMARY:Útek z kina "Sloboda"
UID:20260425T123705Z-1@kinoklub.sk
TZID:Europe/Prague
LOCATION:Špitálska 4\, Bratislava-Staré 
 Mesto (Lumière)
DESCRIPTION:V totalitnom Poľsku sa počas
  premietania filmu v kine Sloboda odohr
 á nevysvetliteľný jav – postavy na plát
 ne sa vzoprú scenáru a začnú diskutovať
  s divákmi. Zmätok\, ktorý vyvolajú\, z
 asiahne aj cyni...\n\nhttps://kinoklub.
 sk/film/7160/utek-z-kina-sloboda
END:VEVENT
END:VCALENDAR
