BEGIN:VCALENDAR
PRODID:-//KinoKlub//iCal4j 1.0//EN
VERSION:2.0
CALSCALE:GREGORIAN
BEGIN:VEVENT
DTSTAMP:20260425T123824Z
DTSTART:20250324T152000Z
DTEND:20250324T165400Z
SUMMARY:Súťaž krátkych filmov IV | MFF F
 EBIOFEST 2025
UID:20260425T123833Z-1@kinoklub.sk
TZID:Europe/Prague
LOCATION:Špitálska 4\, Bratislava-Staré 
 Mesto (Lumière)
DESCRIPTION:Hurikán / Hurikán (r. Jan Sa
 ska\, Česko\, 2024\, 13 min.)\n\nHuriká
 n sa zapozerá do Báry zo stánku s pivom
 . Pivo ale vzápätí dôjde a Hurikán sa v
 ydáva pre nový sud. Jednoduchá misia\, 
 keby sa nekonala ...\n\nhttps://kinoklu
 b.sk/film/7162/sutaz-kratkych-filmov-iv
 -mff-febiofest-2025
END:VEVENT
END:VCALENDAR
