BEGIN:VCALENDAR
PRODID:-//KinoKlub//iCal4j 1.0//EN
VERSION:2.0
CALSCALE:GREGORIAN
BEGIN:VEVENT
DTSTAMP:20260425T123615Z
DTSTART:20250324T173000Z
DTEND:20250324T184800Z
SUMMARY:Vesmírny kovboj
UID:20260425T123617Z-1@kinoklub.sk
TZID:Europe/Prague
LOCATION:Špitálska 4\, Bratislava-Staré 
 Mesto (Lumière)
DESCRIPTION:Dokument o Richardovi Krivdo
 vi sa venuje osobnosti významného slove
 nského kameramana\, známeho doma i v za
 hraničí. Richard Krivda nie je len kame
 raman\, ktorý nakrútil desiatky filmov 
 s významnými re...\n\nhttps://kinoklub.
 sk/film/7157/vesmirny-kovboj
END:VEVENT
END:VCALENDAR
