BEGIN:VCALENDAR
PRODID:-//KinoKlub//iCal4j 1.0//EN
VERSION:2.0
CALSCALE:GREGORIAN
BEGIN:VEVENT
DTSTAMP:20260425T123705Z
DTSTART:20250319T150000Z
DTEND:20250319T163200Z
SUMMARY:Šťastie a dobro všetkým
UID:20260425T123710Z-1@kinoklub.sk
TZID:Europe/Prague
LOCATION:Špitálska 4\, Bratislava-Staré 
 Mesto (Lumière)
DESCRIPTION:Vyštudovaný jadrový fyzik\, 
 otužilec a vlastenec Vitalij dnes žije 
 na Sibíri a pracuje ako robotník na sta
 vbe. Zatiaľ čo jeho rodičia\, bývalí pr
 ominentní vedci\, nostalgicky spomínajú
  na Sovietsky zv...\n\nhttps://kinoklub
 .sk/film/7167/stastie-a-dobro-vsetkym
END:VEVENT
END:VCALENDAR
