BEGIN:VCALENDAR
PRODID:-//KinoKlub//iCal4j 1.0//EN
VERSION:2.0
CALSCALE:GREGORIAN
BEGIN:VEVENT
DTSTAMP:20260425T123705Z
DTSTART:20250321T172000Z
DTEND:20250321T185100Z
SUMMARY:Súťaž krátkych filmov II | MFF F
 EBIOFEST 2025
UID:20260425T123713Z-1@kinoklub.sk
TZID:Europe/Prague
LOCATION:Špitálska 4\, Bratislava-Staré 
 Mesto (Lumière)
DESCRIPTION:Súťaž krátkych filmov II\n\n
 Videl som\, že tancuješ / Ich hab dich 
 tanzen sehn (r. Sarah Pech\, Rakúsko\, 
 Nemecko\, 2024\, 19 min.)\n\nNoc v hors
 kej dedinke. Margarita blúdi prázdnymi 
 ulicami a vrhá rýc...\n\nhttps://kinokl
 ub.sk/film/7165/sutaz-kratkych-filmov-i
 i-mff-febiofest-2025
END:VEVENT
END:VCALENDAR
