BEGIN:VCALENDAR
PRODID:-//KinoKlub//iCal4j 1.0//EN
VERSION:2.0
CALSCALE:GREGORIAN
BEGIN:VEVENT
DTSTAMP:20260425T123448Z
DTSTART:20250322T172000Z
DTEND:20250322T183800Z
SUMMARY:Snívajúci psi
UID:20260425T123451Z-1@kinoklub.sk
TZID:Europe/Prague
LOCATION:Špitálska 4\, Bratislava-Staré 
 Mesto (Lumière)
DESCRIPTION:Snívajúci psi je vizuálne po
 dmanivý dokument\, ktorý skúma krehké s
 poločenstvo medzi opustenými psami a ľu
 ďmi na okraji spoločnosti. Svorka túlav
 ých psov a jedna žena bez domova\, žijú
  na okraji Mosk...\n\nhttps://kinoklub.
 sk/film/7168/snivajuci-psi
END:VEVENT
END:VCALENDAR
