BEGIN:VCALENDAR
PRODID:-//KinoKlub//iCal4j 1.0//EN
VERSION:2.0
CALSCALE:GREGORIAN
BEGIN:VEVENT
DTSTAMP:20260425T123615Z
DTSTART:20250323T152000Z
DTEND:20250323T165700Z
SUMMARY:Súťaž krátkych filmov III | MFF 
 FEBIOFEST 2025
UID:20260425T123620Z-1@kinoklub.sk
TZID:Europe/Prague
LOCATION:Špitálska 4\, Bratislava-Staré 
 Mesto (Lumière)
DESCRIPTION:Ahoj leto / Ahoj leto (r. Ma
 rtin Smatana\, Veronika Zacharová\, Slo
 vensko\, Česko\, 2023\, 11 min.)\n\nMor
 e\, slnko\, pláže a rodinná dovolenka. 
 Vyberte si z katalógu destináciu svojic
 h snov\, zbaľte si ku...\n\nhttps://kin
 oklub.sk/film/7164/sutaz-kratkych-filmo
 v-iii-mff-febiofest-2025
END:VEVENT
END:VCALENDAR
