BEGIN:VCALENDAR
PRODID:-//KinoKlub//iCal4j 1.0//EN
VERSION:2.0
CALSCALE:GREGORIAN
BEGIN:VEVENT
DTSTAMP:20260425T123713Z
DTSTART:20250325T191000Z
DTEND:20250325T204900Z
SUMMARY:Surfer
UID:20260425T123724Z-1@kinoklub.sk
TZID:Europe/Prague
LOCATION:Špitálska 4\, Bratislava-Staré 
 Mesto (Lumière)
DESCRIPTION:Írsky režisér Lorcan Finnega
 n predstavil v sekcii Midnight Screenin
 gs na 77. ročníku Medzinárodného filmov
 ého festivalu v Cannes svoj najnovší fi
 lmový počin\, psychologický triler Surf
 er\, v hlavných...\n\nhttps://kinoklub.
 sk/film/7166/surfer
END:VEVENT
END:VCALENDAR
