BEGIN:VCALENDAR
PRODID:-//KinoKlub//iCal4j 1.0//EN
VERSION:2.0
CALSCALE:GREGORIAN
BEGIN:VEVENT
DTSTAMP:20260425T123824Z
DTSTART:20250319T152000Z
DTEND:20250319T164700Z
SUMMARY:Sestry
UID:20260425T123834Z-1@kinoklub.sk
TZID:Europe/Prague
LOCATION:Špitálska 4\, Bratislava-Staré 
 Mesto (Lumière)
DESCRIPTION:Sestry Ernesta a Justė sa sp
 olu so svojimi manželmi a deťmi stretáv
 ajú v chatke pri jazere\, aby spoločne 
 strávili víkend. Príjemné chvíle však n
 aberú temný spád. Litovský režisér Laur
 ynas Bareiša r...\n\nhttps://kinoklub.s
 k/film/7189/sestry
END:VEVENT
END:VCALENDAR
