BEGIN:VCALENDAR
PRODID:-//KinoKlub//iCal4j 1.0//EN
VERSION:2.0
CALSCALE:GREGORIAN
BEGIN:VEVENT
DTSTAMP:20260425T123705Z
DTSTART:20250319T170000Z
DTEND:20250319T192700Z
SUMMARY:Človek zo železa
UID:20260425T123706Z-1@kinoklub.sk
TZID:Europe/Prague
LOCATION:Špitálska 4\, Bratislava-Staré 
 Mesto (Lumière)
DESCRIPTION:Reportér Winkel dostal na je
 seň 1980 za úlohu urobiť reportáž o štr
 ajku robotníkov v gdaňských lodeniciach
 . Sústrediť sa má najmä na jedného z vo
 dcov štrajku Macieka Tomczyka. Postupne
  si uvedomuje...\n\nhttps://kinoklub.sk
 /film/7175/clovek-zo-zeleza
END:VEVENT
END:VCALENDAR
