BEGIN:VCALENDAR
PRODID:-//KinoKlub//iCal4j 1.0//EN
VERSION:2.0
CALSCALE:GREGORIAN
BEGIN:VEVENT
DTSTAMP:20260425T123824Z
DTSTART:20250319T173000Z
DTEND:20250319T194800Z
SUMMARY:Nový rok\, ktorý nikdy neprišiel
 
UID:20260425T123826Z-1@kinoklub.sk
TZID:Europe/Prague
LOCATION:Špitálska 4\, Bratislava-Staré 
 Mesto (Lumière)
DESCRIPTION:V Bukurešti 20. decembra 198
 9 sa osudy niekoľkých ľudí nečakane pre
 pletú – televízny režisér hľadá náhradu
  po emigrácii hlavnej moderátorky\, jeh
 o syn plánuje útek z krajiny preplávaní
 m Dunaja a rob...\n\nhttps://kinoklub.s
 k/film/7200/novy-rok-ktory-nikdy-nepris
 iel
END:VEVENT
END:VCALENDAR
