BEGIN:VCALENDAR
PRODID:-//KinoKlub//iCal4j 1.0//EN
VERSION:2.0
CALSCALE:GREGORIAN
BEGIN:VEVENT
DTSTAMP:20260425T123824Z
DTSTART:20250319T190000Z
DTEND:20250319T203300Z
SUMMARY:Gesuidouz
UID:20260425T123824Z-1@kinoklub.sk
TZID:Europe/Prague
LOCATION:Špitálska 4\, Bratislava-Staré 
 Mesto (Lumière)
DESCRIPTION:Hanako\, speváčka dnes už ik
 onickej punkovej skupiny "The Gesuidouz
 "\, spolu s gitaristom Masaom\, basgita
 ristom Ryuzom a bubeníkom Santarouom\, 
 čelia otázke od zahraničného novinára..
 . "Čo pre teba zn...\n\nhttps://kinoklu
 b.sk/film/7180/gesuidouz
END:VEVENT
END:VCALENDAR
