BEGIN:VCALENDAR
PRODID:-//KinoKlub//iCal4j 1.0//EN
VERSION:2.0
CALSCALE:GREGORIAN
BEGIN:VEVENT
DTSTAMP:20260425T123713Z
DTSTART:20250319T200000Z
DTEND:20250319T214300Z
SUMMARY:Pějme píseň dohola
UID:20260425T123719Z-1@kinoklub.sk
TZID:Europe/Prague
LOCATION:Špitálska 4\, Bratislava-Staré 
 Mesto (Lumière)
DESCRIPTION:Marek vezie do pionierskeho 
 tábora kamaráta Ondra\, ktorý tam nastu
 puje ako praktikant. Na porade spozná O
 ndro vedúceho Bizóna\, končiaceho každú
  debatu slovami: "Šmidra Vydra". Správc
 a Čada má dreve...\n\nhttps://kinoklub.
 sk/film/7195/pejme-pisen-dohola
END:VEVENT
END:VCALENDAR
