BEGIN:VCALENDAR
PRODID:-//KinoKlub//iCal4j 1.0//EN
VERSION:2.0
CALSCALE:GREGORIAN
BEGIN:VEVENT
DTSTAMP:20260425T123615Z
DTSTART:20250319T201000Z
DTEND:20250319T215000Z
SUMMARY:Chladný ako ľad
UID:20260425T123624Z-1@kinoklub.sk
TZID:Europe/Prague
LOCATION:Špitálska 4\, Bratislava-Staré 
 Mesto (Lumière)
DESCRIPTION:Nablýskané motorky\, krikľav
 é kostýmy a romantika. V hlavnej úlohe 
 americký raper Vanilla Ice. Kultový fil
 m kombinuje prvky romantiky\, akcie\, m
 uzikálu a\, samozrejme\, nablýskaných m
 otoriek. To všetko...\n\nhttps://kinokl
 ub.sk/film/7174/chladny-ako-lad
END:VEVENT
END:VCALENDAR
