BEGIN:VCALENDAR
PRODID:-//KinoKlub//iCal4j 1.0//EN
VERSION:2.0
CALSCALE:GREGORIAN
BEGIN:VEVENT
DTSTAMP:20260425T123603Z
DTSTART:20250320T143000Z
DTEND:20250320T154600Z
SUMMARY:Animation Power (pásmo)
UID:20260425T123612Z-1@kinoklub.sk
TZID:Europe/Prague
LOCATION:Špitálska 4\, Bratislava-Staré 
 Mesto (Lumière)
DESCRIPTION:Hurikán / Hurikán (r. Jan Sa
 ska\, Česko\, 2024\, 13 min.)\n\nHuriká
 n sa zapozerá do Báry zo stánku s pivom
 . Pivo ale vzápätí dôjde a Hurikán sa v
 ydáva pre nový sud. Jednoduchá misia\, 
 keby sa nekonala ...\n\nhttps://kinoklu
 b.sk/film/7172/animation-power-pasmo
END:VEVENT
END:VCALENDAR
