BEGIN:VCALENDAR
PRODID:-//KinoKlub//iCal4j 1.0//EN
VERSION:2.0
CALSCALE:GREGORIAN
BEGIN:VEVENT
DTSTAMP:20260425T123705Z
DTSTART:20250320T144000Z
DTEND:20250320T163300Z
SUMMARY:Korczak
UID:20260425T123711Z-1@kinoklub.sk
TZID:Europe/Prague
LOCATION:Špitálska 4\, Bratislava-Staré 
 Mesto (Lumière)
DESCRIPTION:Režisér Andrzej Wajda\, jede
 n z najvýznamnejších poľských filmových
  tvorcov\, prináša hlboko dojímavý a vi
 zuálne pôsobivý skutočný príbeh Janusza
  Korczaka – lekára\, spisovateľa a peda
 góga\, ktorý zasv...\n\nhttps://kinoklu
 b.sk/film/7184/korczak
END:VEVENT
END:VCALENDAR
