BEGIN:VCALENDAR
PRODID:-//KinoKlub//iCal4j 1.0//EN
VERSION:2.0
CALSCALE:GREGORIAN
BEGIN:VEVENT
DTSTAMP:20260425T123705Z
DTSTART:20250320T150000Z
DTEND:20250320T163400Z
SUMMARY:Očný zub
UID:20260425T123709Z-1@kinoklub.sk
TZID:Europe/Prague
LOCATION:Špitálska 4\, Bratislava-Staré 
 Mesto (Lumière)
DESCRIPTION:V odľahlom dome žije rodina 
 úplne izolovaná od vonkajšieho sveta. O
 tec a matka držia svoje tri dospelé det
 i v zajatí vlastnej reality – učia ich 
 absurdné pravidlá a tvrdia\, že dom môž
 u bezpečne opu...\n\nhttps://kinoklub.s
 k/film/7198/ocny-zub
END:VEVENT
END:VCALENDAR
