BEGIN:VCALENDAR
PRODID:-//KinoKlub//iCal4j 1.0//EN
VERSION:2.0
CALSCALE:GREGORIAN
BEGIN:VEVENT
DTSTAMP:20260425T123548Z
DTSTART:20250320T171000Z
DTEND:20250320T184300Z
SUMMARY:Magic Farm
UID:20260425T123557Z-1@kinoklub.sk
TZID:Europe/Prague
LOCATION:Špitálska 4\, Bratislava-Staré 
 Mesto (Lumière)
DESCRIPTION:Magic Farm je nekonvenčná sa
 tira režisérky Amalie Ulman s Chloë Sev
 igny v hlavnej úlohe\, ktorá si uťahuje
  z privilegovaných Američanov stratenýc
 h na argentínskom vidieku. Skupina cudz
 incov\, pracujú...\n\nhttps://kinoklub.
 sk/film/7202/magic-farm
END:VEVENT
END:VCALENDAR
