BEGIN:VCALENDAR
PRODID:-//KinoKlub//iCal4j 1.0//EN
VERSION:2.0
CALSCALE:GREGORIAN
BEGIN:VEVENT
DTSTAMP:20260425T123713Z
DTSTART:20250320T190000Z
DTEND:20250320T205200Z
SUMMARY:25 rokov neviny
UID:20260425T123718Z-1@kinoklub.sk
TZID:Europe/Prague
LOCATION:Špitálska 4\, Bratislava-Staré 
 Mesto (Lumière)
DESCRIPTION:Príbeh Tomasza Komendu\, kto
 rý bol neprávom odsúdený na 25 rokov vä
 zenia za znásilnenie a vraždu mladej že
 ny – na základe chybných dôkazov a nepr
 esného svedectva. Napriek svojej nevine
  bol nemilosrd...\n\nhttps://kinoklub.s
 k/film/7169/25-rokov-neviny
END:VEVENT
END:VCALENDAR
