BEGIN:VCALENDAR
PRODID:-//KinoKlub//iCal4j 1.0//EN
VERSION:2.0
CALSCALE:GREGORIAN
BEGIN:VEVENT
DTSTAMP:20260425T123548Z
DTSTART:20250321T145000Z
DTEND:20250321T163200Z
SUMMARY:Priateľ na prenájom
UID:20260425T123558Z-1@kinoklub.sk
TZID:Europe/Prague
LOCATION:Špitálska 4\, Bratislava-Staré 
 Mesto (Lumière)
DESCRIPTION:Prajete si kultivovaného pri
 ateľa? Chcete predviesť obchodným partn
 erom dokonalého syna? Chcete sa naučiť 
 hádať? Žiadny problém. Agentúra My Comp
 anion vám dodá dokonalého profesionála\
 , ktorý naplní...\n\nhttps://kinoklub.s
 k/film/7128/priatel-na-prenajom
END:VEVENT
END:VCALENDAR
