BEGIN:VCALENDAR
PRODID:-//KinoKlub//iCal4j 1.0//EN
VERSION:2.0
CALSCALE:GREGORIAN
BEGIN:VEVENT
DTSTAMP:20260425T123615Z
DTSTART:20250321T150000Z
DTEND:20250321T163700Z
SUMMARY:Súťaž krátkych filmov I | MFF FE
 BIOFEST 2025
UID:20260425T123616Z-1@kinoklub.sk
TZID:Europe/Prague
LOCATION:Špitálska 4\, Bratislava-Staré 
 Mesto (Lumière)
DESCRIPTION:Chata / Chata (r. Eliška Přá
 dová\, Česko\, 2024\, 25 min.)\n\nDvads
 aťročná Stázka prichádza na chatu v hor
 ách\, kde má v pláne s bývalými spoluži
 akmi osláviť začiatok nového roka. Dúfa
 \, že výlet mimo c...\n\nhttps://kinokl
 ub.sk/film/7187/sutaz-kratkych-filmov-i
 -mff-febiofest-2025
END:VEVENT
END:VCALENDAR
