BEGIN:VCALENDAR
PRODID:-//KinoKlub//iCal4j 1.0//EN
VERSION:2.0
CALSCALE:GREGORIAN
BEGIN:VEVENT
DTSTAMP:20260425T123714Z
DTSTART:20250321T173000Z
DTEND:20250321T192900Z
SUMMARY:Bird
UID:20260425T123726Z-1@kinoklub.sk
TZID:Europe/Prague
LOCATION:Špitálska 4\, Bratislava-Staré 
 Mesto (Lumière)
DESCRIPTION:Magický príbeh o dospievaní 
 v hlavných úlohách s Barrym Keoghanom\,
  Franzom Rogowskim\, Nykiyou Adams a An
 dreou Arnold. Dvanásťročná Bailey žije 
 so svojim milujúcim\, ale nezodpovedným
  otcom Bugom a r...\n\nhttps://kinoklub
 .sk/film/7171/bird
END:VEVENT
END:VCALENDAR
