BEGIN:VCALENDAR
PRODID:-//KinoKlub//iCal4j 1.0//EN
VERSION:2.0
CALSCALE:GREGORIAN
BEGIN:VEVENT
DTSTAMP:20260425T123603Z
DTSTART:20250321T190000Z
DTEND:20250321T205200Z
SUMMARY:Skafander a motýľ
UID:20260425T123611Z-1@kinoklub.sk
TZID:Europe/Prague
LOCATION:Špitálska 4\, Bratislava-Staré 
 Mesto (Lumière)
DESCRIPTION:Režisér Julian Schnabel sa p
 okúsil o zdanlivo nemožné\, preniesť na
  filmové plátno príbeh Jeana-Dominiquea
  Baubyho\, šéfredaktora časopisu Elle\,
  ktorému po náhlej mozgovej príhode och
 rnulo celé telo....\n\nhttps://kinoklub
 .sk/film/7188/skafander-a-motyl
END:VEVENT
END:VCALENDAR
