BEGIN:VCALENDAR
PRODID:-//KinoKlub//iCal4j 1.0//EN
VERSION:2.0
CALSCALE:GREGORIAN
BEGIN:VEVENT
DTSTAMP:20260425T123615Z
DTSTART:20250321T192000Z
DTEND:20250321T202200Z
SUMMARY:If I Ever Lose My Eyes
UID:20260425T123615Z-1@kinoklub.sk
TZID:Europe/Prague
LOCATION:Špitálska 4\, Bratislava-Staré 
 Mesto (Lumière)
DESCRIPTION:Keď zavrieme oči a vonkajší 
 svet sa rozplynie\, v našom vnútri sa o
 tvorí nový. Vizuálna umelkyňa Lea Petří
 ková sa vydáva po stopách tých\, ktorí 
 hľadajú tento neviditeľný priestor. Nam
 iesto psychedel...\n\nhttps://kinoklub.
 sk/film/7182/if-i-ever-lose-my-eyes
END:VEVENT
END:VCALENDAR
