BEGIN:VCALENDAR
PRODID:-//KinoKlub//iCal4j 1.0//EN
VERSION:2.0
CALSCALE:GREGORIAN
BEGIN:VEVENT
DTSTAMP:20260425T123548Z
DTSTART:20250321T194000Z
DTEND:20250321T213000Z
SUMMARY:Dobrý deň\, smútok
UID:20260425T123553Z-1@kinoklub.sk
TZID:Europe/Prague
LOCATION:Špitálska 4\, Bratislava-Staré 
 Mesto (Lumière)
DESCRIPTION:Film na motívy rovnomennej k
 nihy známej francúzskej autorky Francoi
 se Sagan\, uvedený v premiére na festiv
 ale v Toronte. Cécile trávi leto na juh
 u Francúzska so svojím ovdoveným otcom 
 Raymondom. Rov...\n\nhttps://kinoklub.s
 k/film/7178/dobry-den-smutok
END:VEVENT
END:VCALENDAR
