BEGIN:VCALENDAR
PRODID:-//KinoKlub//iCal4j 1.0//EN
VERSION:2.0
CALSCALE:GREGORIAN
BEGIN:VEVENT
DTSTAMP:20260425T123705Z
DTSTART:20250321T203000Z
DTEND:20250321T221800Z
SUMMARY:Občan Toxík: Toxický pomstiteľ I
 V
UID:20260425T123715Z-1@kinoklub.sk
TZID:Europe/Prague
LOCATION:Špitálska 4\, Bratislava-Staré 
 Mesto (Lumière)
DESCRIPTION:Najokázalejšia produkcia Tro
 ma a ultimatívne crossover všetkých šia
 lených superhrdinov ich MCU (Mutated Ci
 nematic Universe) si vyžaduje náležité 
 veľkolepé spracovanie. Preto sa u mikro
 fónov pred pl...\n\nhttps://kinoklub.sk
 /film/7204/obcan-toxik-toxicky-pomstite
 l-iv
END:VEVENT
END:VCALENDAR
