BEGIN:VCALENDAR
PRODID:-//KinoKlub//iCal4j 1.0//EN
VERSION:2.0
CALSCALE:GREGORIAN
BEGIN:VEVENT
DTSTAMP:20260425T123548Z
DTSTART:20250322T133000Z
DTEND:20250322T145900Z
SUMMARY:Hollywoodgate
UID:20260425T123552Z-1@kinoklub.sk
TZID:Europe/Prague
LOCATION:Špitálska 4\, Bratislava-Staré 
 Mesto (Lumière)
DESCRIPTION:Keď sa Spojené štáty stiahli
  z Afganistanu\, Taliban okamžite ovlád
 ol krajinu a získal kontrolu nad obrovs
 kým arzenálom zbraní. Režisér Ibrahim N
 ash’at sa dostáva priamo do centra dian
 ia – strávi ro...\n\nhttps://kinoklub.s
 k/film/7181/hollywoodgate
END:VEVENT
END:VCALENDAR
