BEGIN:VCALENDAR
PRODID:-//KinoKlub//iCal4j 1.0//EN
VERSION:2.0
CALSCALE:GREGORIAN
BEGIN:VEVENT
DTSTAMP:20260425T123615Z
DTSTART:20250322T190000Z
DTEND:20250322T210900Z
SUMMARY:Noc na zemi
UID:20260425T123623Z-1@kinoklub.sk
TZID:Europe/Prague
LOCATION:Špitálska 4\, Bratislava-Staré 
 Mesto (Lumière)
DESCRIPTION:Film sa odohráva počas jedne
 j noci v rôznych časových pásmach v pia
 tich rôznych mestách na Zemi (Los Angel
 es\, New York\, Paríž\, Rím\, Helsinki)
 . Hlavnými postavami sú miestni taxikár
 i a ich pasažieri...\n\nhttps://kinoklu
 b.sk/film/1984/noc-na-zemi
END:VEVENT
END:VCALENDAR
