BEGIN:VCALENDAR
PRODID:-//KinoKlub//iCal4j 1.0//EN
VERSION:2.0
CALSCALE:GREGORIAN
BEGIN:VEVENT
DTSTAMP:20260425T123603Z
DTSTART:20250322T200000Z
DTEND:20250322T212400Z
SUMMARY:Virtuálka
UID:20260425T123610Z-1@kinoklub.sk
TZID:Europe/Prague
LOCATION:Špitálska 4\, Bratislava-Staré 
 Mesto (Lumière)
DESCRIPTION:ažite vernú simuláciu americ
 kých deväťdesiatok očami geniálneho ajť
 áka uväzneného v sieti korporátnej meri
 tokracie\, nekonečného kybersexu na čer
 venom saténe a smrtiacich útokov šialen
 ého hackera. P...\n\nhttps://kinoklub.s
 k/film/7197/virtualka
END:VEVENT
END:VCALENDAR
