BEGIN:VCALENDAR
PRODID:-//KinoKlub//iCal4j 1.0//EN
VERSION:2.0
CALSCALE:GREGORIAN
BEGIN:VEVENT
DTSTAMP:20260425T123615Z
DTSTART:20250323T130000Z
DTEND:20250323T145200Z
SUMMARY:Propagandista
UID:20260425T123625Z-1@kinoklub.sk
TZID:Europe/Prague
LOCATION:Špitálska 4\, Bratislava-Staré 
 Mesto (Lumière)
DESCRIPTION:Dokument Propagandista odhaľ
 uje temný príbeh vzostupu a pádu holand
 ského filmára Jana Teunissena. Pred dru
 hou svetovou vojnou bol uznávaným režis
 érom\, no po jej vypuknutí sa stal vedú
 cim filmového ...\n\nhttps://kinoklub.s
 k/film/7192/propagandista
END:VEVENT
END:VCALENDAR
