BEGIN:VCALENDAR
PRODID:-//KinoKlub//iCal4j 1.0//EN
VERSION:2.0
CALSCALE:GREGORIAN
BEGIN:VEVENT
DTSTAMP:20260425T123548Z
DTSTART:20250323T194000Z
DTEND:20250323T210000Z
SUMMARY:Nécrose
UID:20260425T123554Z-1@kinoklub.sk
TZID:Europe/Prague
LOCATION:Špitálska 4\, Bratislava-Staré 
 Mesto (Lumière)
DESCRIPTION:Nécrose\, vizuálne podmanivý
  experimentálny film\, ktorý spája prvk
 y dokumentu so surrealizmom a ponára di
 váka do temnoty\, otázok existencie a k
 rásy sveta na pokraji zániku na pozadí 
 postapokalyptick...\n\nhttps://kinoklub
 .sk/film/7201/necrose
END:VEVENT
END:VCALENDAR
